BEGIN:VCALENDAR
VERSION:2.0
PRODID:-//GCO - ECPv6.15.20//NONSGML v1.0//EN
CALSCALE:GREGORIAN
METHOD:PUBLISH
X-ORIGINAL-URL:https://gacommuteoptions.com
X-WR-CALDESC:Events for GCO
REFRESH-INTERVAL;VALUE=DURATION:PT1H
X-Robots-Tag:noindex
X-PUBLISHED-TTL:PT1H
BEGIN:VTIMEZONE
TZID:America/New_York
BEGIN:DAYLIGHT
TZOFFSETFROM:-0500
TZOFFSETTO:-0400
TZNAME:EDT
DTSTART:20240310T070000
END:DAYLIGHT
BEGIN:STANDARD
TZOFFSETFROM:-0400
TZOFFSETTO:-0500
TZNAME:EST
DTSTART:20241103T060000
END:STANDARD
BEGIN:DAYLIGHT
TZOFFSETFROM:-0500
TZOFFSETTO:-0400
TZNAME:EDT
DTSTART:20250309T070000
END:DAYLIGHT
BEGIN:STANDARD
TZOFFSETFROM:-0400
TZOFFSETTO:-0500
TZNAME:EST
DTSTART:20251102T060000
END:STANDARD
BEGIN:DAYLIGHT
TZOFFSETFROM:-0500
TZOFFSETTO:-0400
TZNAME:EDT
DTSTART:20260308T070000
END:DAYLIGHT
BEGIN:STANDARD
TZOFFSETFROM:-0400
TZOFFSETTO:-0500
TZNAME:EST
DTSTART:20261101T060000
END:STANDARD
END:VTIMEZONE
BEGIN:VEVENT
DTSTART;VALUE=DATE:20250131
DTEND;VALUE=DATE:20250224
DTSTAMP:20260420T054131
CREATED:20250128T193226Z
LAST-MODIFIED:20250128T193226Z
UID:51458-1738281600-1740355199@gacommuteoptions.com
SUMMARY:Spotlight Bus Driver -  Nominations Open!
DESCRIPTION:Do you know a special bus driver you think would be perfect to spotlight on our blog? Nominate them here to enter! \n  \nThe lucky bus driver will be announced on February 25th\, 2025. Good luck!
URL:https://gacommuteoptions.com/event/spotlight-bus-driver-nominations-open/
CATEGORIES:Georgia Commute Schools
ATTACH;FMTTYPE=image/png:https://gacommuteoptions.com/wp-content/uploads/2025/01/2025-LMBM-Spotlight-Nom-GCS-logo.png
END:VEVENT
END:VCALENDAR